BEGIN:VCALENDAR
VERSION:2.0
PRODID:-//Othery Village Hall - ECPv6.15.16//NONSGML v1.0//EN
CALSCALE:GREGORIAN
METHOD:PUBLISH
X-WR-CALNAME:Othery Village Hall
X-ORIGINAL-URL:https://otheryvillagehall.org.uk
X-WR-CALDESC:Events for Othery Village Hall
REFRESH-INTERVAL;VALUE=DURATION:PT1H
X-Robots-Tag:noindex
X-PUBLISHED-TTL:PT1H
BEGIN:VTIMEZONE
TZID:UTC
BEGIN:STANDARD
TZOFFSETFROM:+0000
TZOFFSETTO:+0000
TZNAME:UTC
DTSTART:20250101T000000
END:STANDARD
END:VTIMEZONE
BEGIN:VEVENT
DTSTART;TZID=UTC:20260911T190000
DTEND;TZID=UTC:20260911T233000
DTSTAMP:20260422T153505
CREATED:20260314T130038Z
LAST-MODIFIED:20260316T212319Z
UID:1632-1789153200-1789169400@otheryvillagehall.org.uk
SUMMARY:Big Brass SKA 🎶🎤🍻
DESCRIPTION:Come on down @1900hrs for some music\, beers and all the usual associated madness! \n          
URL:https://otheryvillagehall.org.uk/event/big-ska-band-%f0%9f%8e%b6%f0%9f%8e%a4%f0%9f%8d%bb/
END:VEVENT
END:VCALENDAR