BEGIN:VCALENDAR
VERSION:2.0
PRODID:-//Othery Village Hall - ECPv6.15.16//NONSGML v1.0//EN
CALSCALE:GREGORIAN
METHOD:PUBLISH
X-ORIGINAL-URL:https://otheryvillagehall.org.uk
X-WR-CALDESC:Events for Othery Village Hall
REFRESH-INTERVAL;VALUE=DURATION:PT1H
X-Robots-Tag:noindex
X-PUBLISHED-TTL:PT1H
BEGIN:VTIMEZONE
TZID:UTC
BEGIN:STANDARD
TZOFFSETFROM:+0000
TZOFFSETTO:+0000
TZNAME:UTC
DTSTART:20250101T000000
END:STANDARD
END:VTIMEZONE
BEGIN:VEVENT
DTSTART;TZID=UTC:20260207T190000
DTEND;TZID=UTC:20260207T233000
DTSTAMP:20260423T081754
CREATED:20260105T175105Z
LAST-MODIFIED:20260123T215223Z
UID:1564-1770490800-1770507000@otheryvillagehall.org.uk
SUMMARY:Greek Night
DESCRIPTION:NB: Get tickets early!  \nJoin on our 1st Greek Night\, it’s going to be a lot of fun! \nIncluded in the price is food by highly rated vendors “Go Greek”\, music\, dancing and plate smashing. \nAges 13+ £20\nChildren £5 \nRing 07814754127 or go to  \neventbrite to get your ticket. \n          
URL:https://otheryvillagehall.org.uk/event/greek-night/
END:VEVENT
BEGIN:VEVENT
DTSTART;TZID=UTC:20260214T190000
DTEND;TZID=UTC:20260214T230000
DTSTAMP:20260423T081754
CREATED:20260105T175457Z
LAST-MODIFIED:20260105T175457Z
UID:1566-1771095600-1771110000@otheryvillagehall.org.uk
SUMMARY:The Man From Funkle!
DESCRIPTION:Yes you read that right — it’s not a typo (so please don’t write in!)  \nPut on your glad rags on and join us for a beer and some great music from the Man From Funkle. \nDancing\, singing and drinking will no doubt leave you hungry so we’ve aranged for dinner to be served by “Angel Cafe”. \nDoors @ 1900hrs. See you then! \n          
URL:https://otheryvillagehall.org.uk/event/the-man-from-funkle/
END:VEVENT
END:VCALENDAR