BEGIN:VCALENDAR
VERSION:2.0
PRODID:-//Othery Village Hall - ECPv6.15.16//NONSGML v1.0//EN
CALSCALE:GREGORIAN
METHOD:PUBLISH
X-WR-CALNAME:Othery Village Hall
X-ORIGINAL-URL:https://otheryvillagehall.org.uk
X-WR-CALDESC:Events for Othery Village Hall
REFRESH-INTERVAL;VALUE=DURATION:PT1H
X-Robots-Tag:noindex
X-PUBLISHED-TTL:PT1H
BEGIN:VTIMEZONE
TZID:UTC
BEGIN:STANDARD
TZOFFSETFROM:+0000
TZOFFSETTO:+0000
TZNAME:UTC
DTSTART:20250101T000000
END:STANDARD
END:VTIMEZONE
BEGIN:VEVENT
DTSTART;TZID=UTC:20261010T190000
DTEND;TZID=UTC:20261010T233000
DTSTAMP:20260423T063838
CREATED:20260314T130305Z
LAST-MODIFIED:20260314T130305Z
UID:1634-1791658800-1791675000@otheryvillagehall.org.uk
SUMMARY:Danny Jukebox! 🎶🎤🍻
DESCRIPTION:Everybody’s favourite energetic musical entertainer is back\, we’ve had him before and he’s fantastic fun. \nOne not to be missed. \nFree entry! — Doors @1900hrs. \n          
URL:https://otheryvillagehall.org.uk/event/danny-jukebox-%f0%9f%8e%b6%f0%9f%8e%a4%f0%9f%8d%bb/
END:VEVENT
BEGIN:VEVENT
DTSTART;TZID=UTC:20261030T190000
DTEND;TZID=UTC:20261030T233000
DTSTAMP:20260423T063838
CREATED:20260314T130725Z
LAST-MODIFIED:20260316T205231Z
UID:1636-1793386800-1793403000@otheryvillagehall.org.uk
SUMMARY:4th Annual Halloween Party! 🎶🎤🍻👻😈
DESCRIPTION:It returns!  \nA year is too long to wait: Our halloween party is absolutely NOT to be missed\, it’s literally always a blast and jumpin’. \nWe’ll stock the bar\, you put your freakiest outfits on. Free entry as always\, doors @1900hrs. \nSee you then! \n🎶🎤🍻👻 \n          
URL:https://otheryvillagehall.org.uk/event/annual-halloween-party-%f0%9f%8e%b6%f0%9f%8e%a4%f0%9f%8d%bb%f0%9f%91%bb/
END:VEVENT
BEGIN:VEVENT
DTSTART;TZID=UTC:20261113T190000
DTEND;TZID=UTC:20261113T233000
DTSTAMP:20260423T063838
CREATED:20260314T131554Z
LAST-MODIFIED:20260314T131554Z
UID:1639-1794596400-1794612600@otheryvillagehall.org.uk
SUMMARY:Annual BeerFEST! 🎶🍻🍔🌭
DESCRIPTION:IT’S BACK!  \nAnother event where a year is entirely too long to wait is our BeerFEST. \nRound up the chums and join us in sampling from a massive selection of the local firewaters.  \nA delicious range of (as local as possible) black porters to transparent pale ales and everything in between. \nAs always the main bar is open as well. In case you don’t fancy a beer\, but nobody has ever said that. \nFree entry and see you then; doors @1900hrs. \n          
URL:https://otheryvillagehall.org.uk/event/annual-beerfest-%f0%9f%8e%b6%f0%9f%8d%bb%f0%9f%8d%94%f0%9f%8c%ad/
END:VEVENT
BEGIN:VEVENT
DTSTART;TZID=UTC:20261206T160000
DTEND;TZID=UTC:20261206T220000
DTSTAMP:20260423T063838
CREATED:20260314T132048Z
LAST-MODIFIED:20260314T132048Z
UID:1641-1796572800-1796594400@otheryvillagehall.org.uk
SUMMARY:Christmas Party 🎶🍻🎄🎅
DESCRIPTION:Come on down for some festive fun with us! \n          
URL:https://otheryvillagehall.org.uk/event/christmas-party-%f0%9f%8e%b6%f0%9f%8d%bb%f0%9f%8e%84%f0%9f%8e%85/
END:VEVENT
END:VCALENDAR