BEGIN:VCALENDAR
VERSION:2.0
PRODID:-//Othery Village Hall - ECPv6.15.16//NONSGML v1.0//EN
CALSCALE:GREGORIAN
METHOD:PUBLISH
X-WR-CALNAME:Othery Village Hall
X-ORIGINAL-URL:https://otheryvillagehall.org.uk
X-WR-CALDESC:Events for Othery Village Hall
REFRESH-INTERVAL;VALUE=DURATION:PT1H
X-Robots-Tag:noindex
X-PUBLISHED-TTL:PT1H
BEGIN:VTIMEZONE
TZID:UTC
BEGIN:STANDARD
TZOFFSETFROM:+0000
TZOFFSETTO:+0000
TZNAME:UTC
DTSTART:20250101T000000
END:STANDARD
END:VTIMEZONE
BEGIN:VEVENT
DTSTART;TZID=UTC:20260724T190000
DTEND;TZID=UTC:20260724T233000
DTSTAMP:20260422T142524
CREATED:20260314T125842Z
LAST-MODIFIED:20260314T125842Z
UID:1630-1784919600-1784935800@otheryvillagehall.org.uk
SUMMARY:Village Summer BBQ! 🍻🍔🌭
DESCRIPTION:All the usual music & fun of pub night\, but with the addition of locally sourced (wherever possible) burgers and ‘dogs. \nBring a mate down for a beer and a burger. \nI can taste them already — see you then! \n          
URL:https://otheryvillagehall.org.uk/event/village-summer-bbq-%f0%9f%8d%bb%f0%9f%8d%94%f0%9f%8c%ad/
END:VEVENT
END:VCALENDAR