BEGIN:VCALENDAR
VERSION:2.0
PRODID:-//Othery Village Hall - ECPv6.15.16//NONSGML v1.0//EN
CALSCALE:GREGORIAN
METHOD:PUBLISH
X-ORIGINAL-URL:https://otheryvillagehall.org.uk
X-WR-CALDESC:Events for Othery Village Hall
REFRESH-INTERVAL;VALUE=DURATION:PT1H
X-Robots-Tag:noindex
X-PUBLISHED-TTL:PT1H
BEGIN:VTIMEZONE
TZID:UTC
BEGIN:STANDARD
TZOFFSETFROM:+0000
TZOFFSETTO:+0000
TZNAME:UTC
DTSTART:20250101T000000
END:STANDARD
END:VTIMEZONE
BEGIN:VEVENT
DTSTART;TZID=UTC:20260627T190000
DTEND;TZID=UTC:20260627T233000
DTSTAMP:20260422T115849
CREATED:20260314T123427Z
LAST-MODIFIED:20260314T125348Z
UID:1623-1782586800-1782603000@otheryvillagehall.org.uk
SUMMARY:Levi & The Bean 🎶🎤🍻
DESCRIPTION:Doors @1900hrs\, see you then! \nFree entry as always. ❤️ \n          
URL:https://otheryvillagehall.org.uk/event/levi-the-bean-%f0%9f%8e%b6%f0%9f%8e%a4/
END:VEVENT
END:VCALENDAR